BEGIN:VCALENDAR
VERSION:2.0
PRODID:-//Stella kammarkör - ECPv6.15.20//NONSGML v1.0//EN
CALSCALE:GREGORIAN
METHOD:PUBLISH
X-ORIGINAL-URL:https://stellakammarkor.se
X-WR-CALDESC:Händelser för Stella kammarkör
REFRESH-INTERVAL;VALUE=DURATION:PT1H
X-Robots-Tag:noindex
X-PUBLISHED-TTL:PT1H
BEGIN:VTIMEZONE
TZID:Europe/Stockholm
BEGIN:DAYLIGHT
TZOFFSETFROM:+0100
TZOFFSETTO:+0200
TZNAME:CEST
DTSTART:20250330T010000
END:DAYLIGHT
BEGIN:STANDARD
TZOFFSETFROM:+0200
TZOFFSETTO:+0100
TZNAME:CET
DTSTART:20251026T010000
END:STANDARD
BEGIN:DAYLIGHT
TZOFFSETFROM:+0100
TZOFFSETTO:+0200
TZNAME:CEST
DTSTART:20260329T010000
END:DAYLIGHT
BEGIN:STANDARD
TZOFFSETFROM:+0200
TZOFFSETTO:+0100
TZNAME:CET
DTSTART:20261025T010000
END:STANDARD
BEGIN:DAYLIGHT
TZOFFSETFROM:+0100
TZOFFSETTO:+0200
TZNAME:CEST
DTSTART:20270328T010000
END:DAYLIGHT
BEGIN:STANDARD
TZOFFSETFROM:+0200
TZOFFSETTO:+0100
TZNAME:CET
DTSTART:20271031T010000
END:STANDARD
END:VTIMEZONE
BEGIN:VEVENT
DTSTART;TZID=Europe/Stockholm:20260919T000000
DTEND;TZID=Europe/Stockholm:20260919T000000
DTSTAMP:20260426T051015
CREATED:20260313T161104Z
LAST-MODIFIED:20260325T102143Z
UID:1265-1789776000-1789776000@stellakammarkor.se
SUMMARY:Hallsberg\, Sockenkyrkan
DESCRIPTION:
URL:https://stellakammarkor.se/event/hallsberg-sockenkyrkan/
LOCATION:Sockenkyrkan\, Kyrkbyn Sockenkyrkan\, Hallsberg\, Hallsberg\, 694 92\, Sweden
END:VEVENT
BEGIN:VEVENT
DTSTART;TZID=Europe/Stockholm:20261018T160000
DTEND;TZID=Europe/Stockholm:20261018T173000
DTSTAMP:20260426T051015
CREATED:20260310T222506Z
LAST-MODIFIED:20260320T164008Z
UID:1261-1792339200-1792344600@stellakammarkor.se
SUMMARY:Ludvika Ulrika kyrka
DESCRIPTION:
URL:https://stellakammarkor.se/event/ludvika/
LOCATION:Ludvika Ulrika kyrka
ORGANIZER;CN="Ludvika f%C3%B6rsamling":MAILTO:ludvika.forsamling@svenskakyrkan.se
END:VEVENT
END:VCALENDAR