BEGIN:VCALENDAR
VERSION:2.0
PRODID:-//Stella kammarkör - ECPv6.15.20//NONSGML v1.0//EN
CALSCALE:GREGORIAN
METHOD:PUBLISH
X-ORIGINAL-URL:https://stellakammarkor.se
X-WR-CALDESC:Händelser för Stella kammarkör
REFRESH-INTERVAL;VALUE=DURATION:PT1H
X-Robots-Tag:noindex
X-PUBLISHED-TTL:PT1H
BEGIN:VTIMEZONE
TZID:Europe/Stockholm
BEGIN:DAYLIGHT
TZOFFSETFROM:+0100
TZOFFSETTO:+0200
TZNAME:CEST
DTSTART:20240331T010000
END:DAYLIGHT
BEGIN:STANDARD
TZOFFSETFROM:+0200
TZOFFSETTO:+0100
TZNAME:CET
DTSTART:20241027T010000
END:STANDARD
BEGIN:DAYLIGHT
TZOFFSETFROM:+0100
TZOFFSETTO:+0200
TZNAME:CEST
DTSTART:20250330T010000
END:DAYLIGHT
BEGIN:STANDARD
TZOFFSETFROM:+0200
TZOFFSETTO:+0100
TZNAME:CET
DTSTART:20251026T010000
END:STANDARD
BEGIN:DAYLIGHT
TZOFFSETFROM:+0100
TZOFFSETTO:+0200
TZNAME:CEST
DTSTART:20260329T010000
END:DAYLIGHT
BEGIN:STANDARD
TZOFFSETFROM:+0200
TZOFFSETTO:+0100
TZNAME:CET
DTSTART:20261025T010000
END:STANDARD
BEGIN:DAYLIGHT
TZOFFSETFROM:+0100
TZOFFSETTO:+0200
TZNAME:CEST
DTSTART:20270328T010000
END:DAYLIGHT
BEGIN:STANDARD
TZOFFSETFROM:+0200
TZOFFSETTO:+0100
TZNAME:CET
DTSTART:20271031T010000
END:STANDARD
END:VTIMEZONE
BEGIN:VEVENT
DTSTART;TZID=Europe/Stockholm:20251011T170000
DTEND;TZID=Europe/Stockholm:20251011T183000
DTSTAMP:20260426T051748
CREATED:20250603T072717Z
LAST-MODIFIED:20250909T202023Z
UID:1205-1760202000-1760207400@stellakammarkor.se
SUMMARY:S:t Nikolai kyrka i Örebro med Camilla Tilling
DESCRIPTION:Stella m.fl. körer sjunger Messias. Solist: Camilla Tilling
URL:https://stellakammarkor.se/event/st-nikolai-kyrka-i-orebro/
LOCATION:Hallsberg
END:VEVENT
BEGIN:VEVENT
DTSTART;TZID=Europe/Stockholm:20251129T180000
DTEND;TZID=Europe/Stockholm:20251129T190000
DTSTAMP:20260426T051748
CREATED:20250620T113115Z
LAST-MODIFIED:20251106T134649Z
UID:1213-1764439200-1764442800@stellakammarkor.se
SUMMARY:Hammars kyrka - Mot Advent
DESCRIPTION:Med titeln ”Mot advent” sjunger Stella kammarkör in det nya kyrkoåret med såväl traditionella adventssånger som nyskriven körmusik för adventstiden.\n \nStella Kammarkör är en blandad kör från Örebro. Den bildades 2005 av Solvieg Ågren\, körens musikaliska ledare och dirigent. \nKören består av ca 30 sångare\, varav flera även är duktiga instrumentalister. Repertoaren är varierad\, med tonvikt på nordisk körlyrik. 
URL:https://stellakammarkor.se/event/hammars-kyrka/
LOCATION:Hammars kyrka\, Kyrkvägen 12\, Hammar\, 696 74\, Sweden
END:VEVENT
BEGIN:VEVENT
DTSTART;TZID=Europe/Stockholm:20251216T190000
DTEND;TZID=Europe/Stockholm:20251216T203000
DTSTAMP:20260426T051748
CREATED:20250521T134159Z
LAST-MODIFIED:20251106T134935Z
UID:1202-1765911600-1765917000@stellakammarkor.se
SUMMARY:Axbergs kyrka - Från Advent till Jul
DESCRIPTION:
URL:https://stellakammarkor.se/event/axbergs-kyrka-julkonsert-med-stella/
LOCATION:Axbergs kyrka\, Sverige
END:VEVENT
BEGIN:VEVENT
DTSTART;TZID=Europe/Stockholm:20251219T190000
DTEND;TZID=Europe/Stockholm:20251219T203000
DTSTAMP:20260426T051748
CREATED:20250620T112509Z
LAST-MODIFIED:20251106T134900Z
UID:1210-1766170800-1766176200@stellakammarkor.se
SUMMARY:Riddartemplet Mäster Olof - Brinn\, Stjärna\, Brinn
DESCRIPTION:Stella sjunger julsånger tillsammans med kören Let’s sing från Kulturskolan samt Maria Augustsson Backman och Erik Oldberg
URL:https://stellakammarkor.se/event/riddartemplet-master-olof/
LOCATION:Riddartemplet Mäster Olof\, Kristinagatan 29\, Örebro\, Sweden
END:VEVENT
BEGIN:VEVENT
DTSTART;TZID=Europe/Stockholm:20260124T170000
DTEND;TZID=Europe/Stockholm:20260124T183000
DTSTAMP:20260426T051748
CREATED:20250620T110049Z
LAST-MODIFIED:20251106T134738Z
UID:1208-1769274000-1769279400@stellakammarkor.se
SUMMARY:Nora kyrka - Bland Rosor och Stjärnor
DESCRIPTION:
URL:https://stellakammarkor.se/event/nora-kyrka/
LOCATION:Nora kyrka\, Prästgatan 3\, Nora\, 713 31
END:VEVENT
BEGIN:VEVENT
DTSTART;TZID=Europe/Stockholm:20260321T160000
DTEND;TZID=Europe/Stockholm:20260321T173000
DTSTAMP:20260426T051748
CREATED:20260204T102430Z
LAST-MODIFIED:20260313T161407Z
UID:1251-1774108800-1774114200@stellakammarkor.se
SUMMARY:S:t Nicolai Örebro: Maria i Fastetid
DESCRIPTION:
URL:https://stellakammarkor.se/event/stella-i-st-nicolai-i-orebro/
LOCATION:S:t Nicolai kyrka\, Örebro\, Örebro
END:VEVENT
BEGIN:VEVENT
DTSTART;TZID=Europe/Stockholm:20260606T103000
DTEND;TZID=Europe/Stockholm:20260606T113000
DTSTAMP:20260426T051748
CREATED:20260204T102543Z
LAST-MODIFIED:20260204T102543Z
UID:1253-1780741800-1780745400@stellakammarkor.se
SUMMARY:Nationaldagen med Stella i Nicolai
DESCRIPTION:
URL:https://stellakammarkor.se/event/nationaldagen-med-stella-i-nicolai/
LOCATION:S:t Nicolai kyrka\, Örebro\, Örebro
END:VEVENT
BEGIN:VEVENT
DTSTART;TZID=Europe/Stockholm:20260613T180000
DTEND;TZID=Europe/Stockholm:20260613T193000
DTSTAMP:20260426T051748
CREATED:20260125T121901Z
LAST-MODIFIED:20260313T161256Z
UID:1245-1781373600-1781379000@stellakammarkor.se
SUMMARY:Borlänge: Det nordiska Ljuset
DESCRIPTION:Körkonsert med Stella\, Solvieg Ågrens kammarkör från Örebro.
URL:https://stellakammarkor.se/event/stella-i-borlange/
LOCATION:Stora Tuna kyrka\, Sweden
ORGANIZER;CN="Svenska kyrkan i Borl%C3%A4nge":MAILTO:stora-tuna.pastorat@svenskakyrkan.se
END:VEVENT
BEGIN:VEVENT
DTSTART;TZID=Europe/Stockholm:20260919T000000
DTEND;TZID=Europe/Stockholm:20260919T000000
DTSTAMP:20260426T051748
CREATED:20260313T161104Z
LAST-MODIFIED:20260325T102143Z
UID:1265-1789776000-1789776000@stellakammarkor.se
SUMMARY:Hallsberg\, Sockenkyrkan
DESCRIPTION:
URL:https://stellakammarkor.se/event/hallsberg-sockenkyrkan/
LOCATION:Sockenkyrkan\, Kyrkbyn Sockenkyrkan\, Hallsberg\, Hallsberg\, 694 92\, Sweden
END:VEVENT
BEGIN:VEVENT
DTSTART;TZID=Europe/Stockholm:20261018T160000
DTEND;TZID=Europe/Stockholm:20261018T173000
DTSTAMP:20260426T051748
CREATED:20260310T222506Z
LAST-MODIFIED:20260320T164008Z
UID:1261-1792339200-1792344600@stellakammarkor.se
SUMMARY:Ludvika Ulrika kyrka
DESCRIPTION:
URL:https://stellakammarkor.se/event/ludvika/
LOCATION:Ludvika Ulrika kyrka
ORGANIZER;CN="Ludvika f%C3%B6rsamling":MAILTO:ludvika.forsamling@svenskakyrkan.se
END:VEVENT
END:VCALENDAR