BEGIN:VCALENDAR
VERSION:2.0
PRODID:-//Stella kammarkör - ECPv6.15.20//NONSGML v1.0//EN
CALSCALE:GREGORIAN
METHOD:PUBLISH
X-ORIGINAL-URL:https://stellakammarkor.se
X-WR-CALDESC:Händelser för Stella kammarkör
REFRESH-INTERVAL;VALUE=DURATION:PT1H
X-Robots-Tag:noindex
X-PUBLISHED-TTL:PT1H
BEGIN:VTIMEZONE
TZID:Europe/Stockholm
BEGIN:DAYLIGHT
TZOFFSETFROM:+0100
TZOFFSETTO:+0200
TZNAME:CEST
DTSTART:20250330T010000
END:DAYLIGHT
BEGIN:STANDARD
TZOFFSETFROM:+0200
TZOFFSETTO:+0100
TZNAME:CET
DTSTART:20251026T010000
END:STANDARD
BEGIN:DAYLIGHT
TZOFFSETFROM:+0100
TZOFFSETTO:+0200
TZNAME:CEST
DTSTART:20260329T010000
END:DAYLIGHT
BEGIN:STANDARD
TZOFFSETFROM:+0200
TZOFFSETTO:+0100
TZNAME:CET
DTSTART:20261025T010000
END:STANDARD
BEGIN:DAYLIGHT
TZOFFSETFROM:+0100
TZOFFSETTO:+0200
TZNAME:CEST
DTSTART:20270328T010000
END:DAYLIGHT
BEGIN:STANDARD
TZOFFSETFROM:+0200
TZOFFSETTO:+0100
TZNAME:CET
DTSTART:20271031T010000
END:STANDARD
END:VTIMEZONE
BEGIN:VEVENT
DTSTART;TZID=Europe/Stockholm:20260606T103000
DTEND;TZID=Europe/Stockholm:20260606T113000
DTSTAMP:20260425T172727
CREATED:20260204T102543Z
LAST-MODIFIED:20260204T102543Z
UID:1253-1780741800-1780745400@stellakammarkor.se
SUMMARY:Nationaldagen med Stella i Nicolai
DESCRIPTION:
URL:https://stellakammarkor.se/event/nationaldagen-med-stella-i-nicolai/
LOCATION:S:t Nicolai kyrka\, Örebro\, Örebro
END:VEVENT
END:VCALENDAR