BEGIN:VCALENDAR
VERSION:2.0
PRODID:-//Stella kammarkör - ECPv6.15.20//NONSGML v1.0//EN
CALSCALE:GREGORIAN
METHOD:PUBLISH
X-ORIGINAL-URL:https://stellakammarkor.se
X-WR-CALDESC:Händelser för Stella kammarkör
REFRESH-INTERVAL;VALUE=DURATION:PT1H
X-Robots-Tag:noindex
X-PUBLISHED-TTL:PT1H
BEGIN:VTIMEZONE
TZID:Europe/Stockholm
BEGIN:DAYLIGHT
TZOFFSETFROM:+0100
TZOFFSETTO:+0200
TZNAME:CEST
DTSTART:20240331T010000
END:DAYLIGHT
BEGIN:STANDARD
TZOFFSETFROM:+0200
TZOFFSETTO:+0100
TZNAME:CET
DTSTART:20241027T010000
END:STANDARD
BEGIN:DAYLIGHT
TZOFFSETFROM:+0100
TZOFFSETTO:+0200
TZNAME:CEST
DTSTART:20250330T010000
END:DAYLIGHT
BEGIN:STANDARD
TZOFFSETFROM:+0200
TZOFFSETTO:+0100
TZNAME:CET
DTSTART:20251026T010000
END:STANDARD
BEGIN:DAYLIGHT
TZOFFSETFROM:+0100
TZOFFSETTO:+0200
TZNAME:CEST
DTSTART:20260329T010000
END:DAYLIGHT
BEGIN:STANDARD
TZOFFSETFROM:+0200
TZOFFSETTO:+0100
TZNAME:CET
DTSTART:20261025T010000
END:STANDARD
END:VTIMEZONE
BEGIN:VEVENT
DTSTART;TZID=Europe/Stockholm:20251011T170000
DTEND;TZID=Europe/Stockholm:20251011T183000
DTSTAMP:20260426T033246
CREATED:20250603T072717Z
LAST-MODIFIED:20250909T202023Z
UID:1205-1760202000-1760207400@stellakammarkor.se
SUMMARY:S:t Nikolai kyrka i Örebro med Camilla Tilling
DESCRIPTION:Stella m.fl. körer sjunger Messias. Solist: Camilla Tilling
URL:https://stellakammarkor.se/event/st-nikolai-kyrka-i-orebro/
LOCATION:Hallsberg
END:VEVENT
END:VCALENDAR